BEGIN:VCALENDAR
VERSION:2.0
PRODID:icalendar-ruby
CALSCALE:GREGORIAN
METHOD:PUBLISH
BEGIN:VEVENT
DTSTAMP:20260423T120212Z
UID:5-402469@wiotalutheranchurch.org
DTSTART:20261025T153000Z
DTEND:20261025T163000Z
CLASS:PUBLIC
CREATED:20260422T221320
DESCRIPTION:Sunday Worship
LAST-MODIFIED:20260422T221320
LOCATION:
SUMMARY:Sunday Worship
URL;VALUE=URI:https://www.wiotalutheranchurch.org/events/sunday-worship/202
 6-10-25
END:VEVENT
END:VCALENDAR
